BEGIN:VCALENDAR
VERSION:2.0
PRODID:-//Dutch Photo Academy - ECPv6.15.20//NONSGML v1.0//EN
CALSCALE:GREGORIAN
METHOD:PUBLISH
X-WR-CALNAME:Dutch Photo Academy
X-ORIGINAL-URL:https://dutchphotoacademy.nl
X-WR-CALDESC:Evenementen voor Dutch Photo Academy
REFRESH-INTERVAL;VALUE=DURATION:PT1H
X-Robots-Tag:noindex
X-PUBLISHED-TTL:PT1H
BEGIN:VTIMEZONE
TZID:Europe/Amsterdam
BEGIN:DAYLIGHT
TZOFFSETFROM:+0100
TZOFFSETTO:+0200
TZNAME:CEST
DTSTART:20250330T010000
END:DAYLIGHT
BEGIN:STANDARD
TZOFFSETFROM:+0200
TZOFFSETTO:+0100
TZNAME:CET
DTSTART:20251026T010000
END:STANDARD
BEGIN:DAYLIGHT
TZOFFSETFROM:+0100
TZOFFSETTO:+0200
TZNAME:CEST
DTSTART:20260329T010000
END:DAYLIGHT
BEGIN:STANDARD
TZOFFSETFROM:+0200
TZOFFSETTO:+0100
TZNAME:CET
DTSTART:20261025T010000
END:STANDARD
BEGIN:DAYLIGHT
TZOFFSETFROM:+0100
TZOFFSETTO:+0200
TZNAME:CEST
DTSTART:20270328T010000
END:DAYLIGHT
BEGIN:STANDARD
TZOFFSETFROM:+0200
TZOFFSETTO:+0100
TZNAME:CET
DTSTART:20271031T010000
END:STANDARD
END:VTIMEZONE
BEGIN:VEVENT
DTSTART;TZID=Europe/Amsterdam:20260424T150000
DTEND;TZID=Europe/Amsterdam:20260424T210000
DTSTAMP:20260424T150924
CREATED:20260110T143028Z
LAST-MODIFIED:20260110T143030Z
UID:46121-1777042800-1777064400@dutchphotoacademy.nl
SUMMARY:Workshop lange sluitertijden in Zeeland - met Ellen
DESCRIPTION:
URL:https://dutchphotoacademy.nl/workshop/workshop-lange-sluitertijden-in-zeeland-met-ellen-6/
END:VEVENT
END:VCALENDAR