BEGIN:VCALENDAR
VERSION:2.0
PRODID:-//Dutch Photo Academy - ECPv6.15.20//NONSGML v1.0//EN
CALSCALE:GREGORIAN
METHOD:PUBLISH
X-WR-CALNAME:Dutch Photo Academy
X-ORIGINAL-URL:https://dutchphotoacademy.nl
X-WR-CALDESC:Evenementen voor Dutch Photo Academy
REFRESH-INTERVAL;VALUE=DURATION:PT1H
X-Robots-Tag:noindex
X-PUBLISHED-TTL:PT1H
BEGIN:VTIMEZONE
TZID:Europe/Amsterdam
BEGIN:DAYLIGHT
TZOFFSETFROM:+0100
TZOFFSETTO:+0200
TZNAME:CEST
DTSTART:20250330T010000
END:DAYLIGHT
BEGIN:STANDARD
TZOFFSETFROM:+0200
TZOFFSETTO:+0100
TZNAME:CET
DTSTART:20251026T010000
END:STANDARD
BEGIN:DAYLIGHT
TZOFFSETFROM:+0100
TZOFFSETTO:+0200
TZNAME:CEST
DTSTART:20260329T010000
END:DAYLIGHT
BEGIN:STANDARD
TZOFFSETFROM:+0200
TZOFFSETTO:+0100
TZNAME:CET
DTSTART:20261025T010000
END:STANDARD
BEGIN:DAYLIGHT
TZOFFSETFROM:+0100
TZOFFSETTO:+0200
TZNAME:CEST
DTSTART:20270328T010000
END:DAYLIGHT
BEGIN:STANDARD
TZOFFSETFROM:+0200
TZOFFSETTO:+0100
TZNAME:CET
DTSTART:20271031T010000
END:STANDARD
END:VTIMEZONE
BEGIN:VEVENT
DTSTART;TZID=Europe/Amsterdam:20260822T070000
DTEND;TZID=Europe/Amsterdam:20260822T093000
DTSTAMP:20260421T032928
CREATED:20260125T075847Z
LAST-MODIFIED:20260125T075850Z
UID:46228-1787382000-1787391000@dutchphotoacademy.nl
SUMMARY:Workshop Smartphone Fotografie
DESCRIPTION:
URL:https://dutchphotoacademy.nl/workshop/workshop-smartphone-fotografie-3/
END:VEVENT
BEGIN:VEVENT
DTSTART;TZID=Europe/Amsterdam:20260911T080000
DTEND;TZID=Europe/Amsterdam:20260913T170000
DTSTAMP:20260421T032928
CREATED:20250828T095322Z
LAST-MODIFIED:20250828T095332Z
UID:44691-1789113600-1789318800@dutchphotoacademy.nl
SUMMARY:Fotoreis Friese Wad
DESCRIPTION:
URL:https://dutchphotoacademy.nl/workshop/fotoreis-friese-wad/
END:VEVENT
BEGIN:VEVENT
DTSTART;TZID=Europe/Amsterdam:20260925T080000
DTEND;TZID=Europe/Amsterdam:20261002T170000
DTSTAMP:20260421T032928
CREATED:20251004T114240Z
LAST-MODIFIED:20251004T114242Z
UID:45077-1790323200-1790960400@dutchphotoacademy.nl
SUMMARY:Fotoreis Zuid IJsland
DESCRIPTION:
URL:https://dutchphotoacademy.nl/workshop/fotoreis-zuid-ijsland/
END:VEVENT
BEGIN:VEVENT
DTSTART;TZID=Europe/Amsterdam:20261003T074500
DTEND;TZID=Europe/Amsterdam:20261003T104500
DTSTAMP:20260421T032928
CREATED:20251027T104916Z
LAST-MODIFIED:20251027T104917Z
UID:45246-1791013500-1791024300@dutchphotoacademy.nl
SUMMARY:Workshop bosfotografie
DESCRIPTION:
URL:https://dutchphotoacademy.nl/workshop/workshop-bosfotografie-2/
END:VEVENT
BEGIN:VEVENT
DTSTART;TZID=Europe/Amsterdam:20261009T190000
DTEND;TZID=Europe/Amsterdam:20261009T220000
DTSTAMP:20260421T032928
CREATED:20260228T095012Z
LAST-MODIFIED:20260228T095014Z
UID:46488-1791572400-1791583200@dutchphotoacademy.nl
SUMMARY:Workshop avondfotografie Rotterdam
DESCRIPTION:
URL:https://dutchphotoacademy.nl/workshop/workshop-avondfotografie-rotterdam-2/
END:VEVENT
BEGIN:VEVENT
DTSTART;TZID=Europe/Amsterdam:20261018T080000
DTEND;TZID=Europe/Amsterdam:20261024T170000
DTSTAMP:20260421T032928
CREATED:20251013T112118Z
LAST-MODIFIED:20251013T112119Z
UID:45179-1792310400-1792861200@dutchphotoacademy.nl
SUMMARY:Fotoreis Slovenië
DESCRIPTION:
URL:https://dutchphotoacademy.nl/workshop/fotoreis-slovenie/
END:VEVENT
BEGIN:VEVENT
DTSTART;TZID=Europe/Amsterdam:20261107T080000
DTEND;TZID=Europe/Amsterdam:20261114T170000
DTSTAMP:20260421T032928
CREATED:20251218T130824Z
LAST-MODIFIED:20251218T130825Z
UID:45737-1794038400-1794675600@dutchphotoacademy.nl
SUMMARY:Fotoreis Madeira
DESCRIPTION:
URL:https://dutchphotoacademy.nl/workshop/fotoreis-madeira-4/
END:VEVENT
END:VCALENDAR