BEGIN:VCALENDAR
VERSION:2.0
PRODID:-//Dutch Photo Academy - ECPv6.15.20//NONSGML v1.0//EN
CALSCALE:GREGORIAN
METHOD:PUBLISH
X-WR-CALNAME:Dutch Photo Academy
X-ORIGINAL-URL:https://dutchphotoacademy.nl
X-WR-CALDESC:Evenementen voor Dutch Photo Academy
REFRESH-INTERVAL;VALUE=DURATION:PT1H
X-Robots-Tag:noindex
X-PUBLISHED-TTL:PT1H
BEGIN:VTIMEZONE
TZID:Europe/Amsterdam
BEGIN:DAYLIGHT
TZOFFSETFROM:+0100
TZOFFSETTO:+0200
TZNAME:CEST
DTSTART:20240331T010000
END:DAYLIGHT
BEGIN:STANDARD
TZOFFSETFROM:+0200
TZOFFSETTO:+0100
TZNAME:CET
DTSTART:20241027T010000
END:STANDARD
BEGIN:DAYLIGHT
TZOFFSETFROM:+0100
TZOFFSETTO:+0200
TZNAME:CEST
DTSTART:20250330T010000
END:DAYLIGHT
BEGIN:STANDARD
TZOFFSETFROM:+0200
TZOFFSETTO:+0100
TZNAME:CET
DTSTART:20251026T010000
END:STANDARD
BEGIN:DAYLIGHT
TZOFFSETFROM:+0100
TZOFFSETTO:+0200
TZNAME:CEST
DTSTART:20260329T010000
END:DAYLIGHT
BEGIN:STANDARD
TZOFFSETFROM:+0200
TZOFFSETTO:+0100
TZNAME:CET
DTSTART:20261025T010000
END:STANDARD
END:VTIMEZONE
BEGIN:VEVENT
DTSTART;TZID=Europe/Amsterdam:20250426T080000
DTEND;TZID=Europe/Amsterdam:20250503T170000
DTSTAMP:20260421T121748
CREATED:20240504T071627Z
LAST-MODIFIED:20240504T071632Z
UID:38618-1745654400-1746291600@dutchphotoacademy.nl
SUMMARY:Fotoreis Toscane
DESCRIPTION:
URL:https://dutchphotoacademy.nl/workshop/fotoreis-toscane-2/
END:VEVENT
BEGIN:VEVENT
DTSTART;TZID=Europe/Amsterdam:20250510T130000
DTEND;TZID=Europe/Amsterdam:20250510T163000
DTSTAMP:20260421T121748
CREATED:20241110T203448Z
LAST-MODIFIED:20241110T210831Z
UID:40496-1746882000-1746894600@dutchphotoacademy.nl
SUMMARY:Workshop Creatieve Macro fotografie
DESCRIPTION:
URL:https://dutchphotoacademy.nl/workshop/workshop-creatieve-macro-fotografie-8/
END:VEVENT
BEGIN:VEVENT
DTSTART;TZID=Europe/Amsterdam:20250517T143000
DTEND;TZID=Europe/Amsterdam:20250517T213000
DTSTAMP:20260421T121748
CREATED:20250130T180753Z
LAST-MODIFIED:20250130T180806Z
UID:42284-1747492200-1747517400@dutchphotoacademy.nl
SUMMARY:Workshop landschapsfotografie aan het Friese Wad
DESCRIPTION:
URL:https://dutchphotoacademy.nl/workshop/workshop-landschapsfotografie-aan-het-friese-wad/
END:VEVENT
BEGIN:VEVENT
DTSTART;TZID=Europe/Amsterdam:20250520T080000
DTEND;TZID=Europe/Amsterdam:20250524T170000
DTSTAMP:20260421T121748
CREATED:20240909T124223Z
LAST-MODIFIED:20240909T124228Z
UID:39857-1747728000-1748106000@dutchphotoacademy.nl
SUMMARY:Fotoreis Noord Spanje
DESCRIPTION:
URL:https://dutchphotoacademy.nl/workshop/fotoreis-noord-spanje-2/
END:VEVENT
BEGIN:VEVENT
DTSTART;TZID=Europe/Amsterdam:20250523T193000
DTEND;TZID=Europe/Amsterdam:20250523T220000
DTSTAMP:20260421T121748
CREATED:20250125T091130Z
LAST-MODIFIED:20250125T091140Z
UID:42140-1748028600-1748037600@dutchphotoacademy.nl
SUMMARY:Workshop smartphone fotografie
DESCRIPTION:
URL:https://dutchphotoacademy.nl/workshop/workshop-smartphone-fotografie-9/
END:VEVENT
BEGIN:VEVENT
DTSTART;TZID=Europe/Amsterdam:20250523T194500
DTEND;TZID=Europe/Amsterdam:20250523T234500
DTSTAMP:20260421T121748
CREATED:20241110T204357Z
LAST-MODIFIED:20241110T204402Z
UID:40498-1748029500-1748043900@dutchphotoacademy.nl
SUMMARY:Workshop Light Painting
DESCRIPTION:
URL:https://dutchphotoacademy.nl/workshop/workshop-light-painting-8/
END:VEVENT
BEGIN:VEVENT
DTSTART;TZID=Europe/Amsterdam:20250525T051500
DTEND;TZID=Europe/Amsterdam:20250525T081500
DTSTAMP:20260421T121748
CREATED:20241116T092501Z
LAST-MODIFIED:20241220T095735Z
UID:40511-1748150100-1748160900@dutchphotoacademy.nl
SUMMARY:Workshop Bosfotografie
DESCRIPTION:
URL:https://dutchphotoacademy.nl/workshop/workshop-bosfotografie-5/
END:VEVENT
BEGIN:VEVENT
DTSTART;TZID=Europe/Amsterdam:20250531T090000
DTEND;TZID=Europe/Amsterdam:20250531T150000
DTSTAMP:20260421T121748
CREATED:20250106T185510Z
LAST-MODIFIED:20250106T185524Z
UID:41170-1748682000-1748703600@dutchphotoacademy.nl
SUMMARY:Basis workshop fotografie
DESCRIPTION:
URL:https://dutchphotoacademy.nl/workshop/basis-workshop-fotografie-8/
END:VEVENT
BEGIN:VEVENT
DTSTART;TZID=Europe/Amsterdam:20250531T130000
DTEND;TZID=Europe/Amsterdam:20250531T163000
DTSTAMP:20260421T121748
CREATED:20250225T131917Z
LAST-MODIFIED:20250225T131929Z
UID:42459-1748696400-1748709000@dutchphotoacademy.nl
SUMMARY:Workshop creatieve macro fotografie
DESCRIPTION:
URL:https://dutchphotoacademy.nl/workshop/workshop-creatieve-macro-fotografie/
END:VEVENT
END:VCALENDAR