BEGIN:VCALENDAR
VERSION:2.0
PRODID:-//Dutch Photo Academy - ECPv6.15.20//NONSGML v1.0//EN
CALSCALE:GREGORIAN
METHOD:PUBLISH
X-ORIGINAL-URL:https://dutchphotoacademy.nl
X-WR-CALDESC:Evenementen voor Dutch Photo Academy
REFRESH-INTERVAL;VALUE=DURATION:PT1H
X-Robots-Tag:noindex
X-PUBLISHED-TTL:PT1H
BEGIN:VTIMEZONE
TZID:Europe/Amsterdam
BEGIN:DAYLIGHT
TZOFFSETFROM:+0100
TZOFFSETTO:+0200
TZNAME:CEST
DTSTART:20240331T010000
END:DAYLIGHT
BEGIN:STANDARD
TZOFFSETFROM:+0200
TZOFFSETTO:+0100
TZNAME:CET
DTSTART:20241027T010000
END:STANDARD
BEGIN:DAYLIGHT
TZOFFSETFROM:+0100
TZOFFSETTO:+0200
TZNAME:CEST
DTSTART:20250330T010000
END:DAYLIGHT
BEGIN:STANDARD
TZOFFSETFROM:+0200
TZOFFSETTO:+0100
TZNAME:CET
DTSTART:20251026T010000
END:STANDARD
BEGIN:DAYLIGHT
TZOFFSETFROM:+0100
TZOFFSETTO:+0200
TZNAME:CEST
DTSTART:20260329T010000
END:DAYLIGHT
BEGIN:STANDARD
TZOFFSETFROM:+0200
TZOFFSETTO:+0100
TZNAME:CET
DTSTART:20261025T010000
END:STANDARD
END:VTIMEZONE
BEGIN:VEVENT
DTSTART;TZID=Europe/Amsterdam:20250803T080000
DTEND;TZID=Europe/Amsterdam:20250803T120000
DTSTAMP:20260423T220636
CREATED:20250228T081005Z
LAST-MODIFIED:20250228T081017Z
UID:42505-1754208000-1754222400@dutchphotoacademy.nl
SUMMARY:Workshop smartphone fotografie - Epen
DESCRIPTION:
URL:https://dutchphotoacademy.nl/workshop/workshop-smartphone-fotografie-epen-2/
END:VEVENT
BEGIN:VEVENT
DTSTART;TZID=Europe/Amsterdam:20250809T060000
DTEND;TZID=Europe/Amsterdam:20250809T090000
DTSTAMP:20260423T220636
CREATED:20250124T095904Z
LAST-MODIFIED:20250124T095911Z
UID:42019-1754719200-1754730000@dutchphotoacademy.nl
SUMMARY:Workshop heide landschap
DESCRIPTION:Samen de heide velden fotograferen
URL:https://dutchphotoacademy.nl/workshop/workshop-heide-landschap-2/
END:VEVENT
BEGIN:VEVENT
DTSTART;TZID=Europe/Amsterdam:20250814T153000
DTEND;TZID=Europe/Amsterdam:20250814T213000
DTSTAMP:20260423T220636
CREATED:20250620T081506Z
LAST-MODIFIED:20250620T081515Z
UID:43672-1755185400-1755207000@dutchphotoacademy.nl
SUMMARY:Workshop lange sluitertijden - Steigers en Huisjes - met Karin
DESCRIPTION:
URL:https://dutchphotoacademy.nl/workshop/workshop-lange-sluitertijden-steigers-en-huisjes-met-karin/
END:VEVENT
BEGIN:VEVENT
DTSTART;TZID=Europe/Amsterdam:20250816T061500
DTEND;TZID=Europe/Amsterdam:20250816T091500
DTSTAMP:20260423T220636
CREATED:20250124T100429Z
LAST-MODIFIED:20250124T100442Z
UID:42022-1755324900-1755335700@dutchphotoacademy.nl
SUMMARY:Workshop heide landschap
DESCRIPTION:Samen de heide velden fotograferen
URL:https://dutchphotoacademy.nl/workshop/workshop-heide-landschap-3/
END:VEVENT
BEGIN:VEVENT
DTSTART;TZID=Europe/Amsterdam:20250816T160000
DTEND;TZID=Europe/Amsterdam:20250816T210000
DTSTAMP:20260423T220636
CREATED:20250429T073306Z
LAST-MODIFIED:20250429T073314Z
UID:43203-1755360000-1755378000@dutchphotoacademy.nl
SUMMARY:Workshop landschapsfotografie aan het Friese Wad
DESCRIPTION:
URL:https://dutchphotoacademy.nl/workshop/workshop-landschapsfotografie-aan-het-friese-wad-2/
END:VEVENT
BEGIN:VEVENT
DTSTART;TZID=Europe/Amsterdam:20250822T183000
DTEND;TZID=Europe/Amsterdam:20250822T210000
DTSTAMP:20260423T220636
CREATED:20250210T084020Z
LAST-MODIFIED:20250210T084031Z
UID:42381-1755887400-1755896400@dutchphotoacademy.nl
SUMMARY:Workshop smartphone fotografie - Arnhem
DESCRIPTION:
URL:https://dutchphotoacademy.nl/workshop/workshop-smartphone-fotografie-arnhem/
END:VEVENT
BEGIN:VEVENT
DTSTART;TZID=Europe/Amsterdam:20250823T151500
DTEND;TZID=Europe/Amsterdam:20250823T211500
DTSTAMP:20260423T220636
CREATED:20250620T081859Z
LAST-MODIFIED:20250620T081908Z
UID:43676-1755962100-1755983700@dutchphotoacademy.nl
SUMMARY:Workshop lange sluitertijden - Vuurtoren en Visstokken - met Karin
DESCRIPTION:
URL:https://dutchphotoacademy.nl/workshop/workshop-lange-sluitertijden-vuurtoren-en-visstokken-met-karin-2/
END:VEVENT
BEGIN:VEVENT
DTSTART;TZID=Europe/Amsterdam:20250829T180000
DTEND;TZID=Europe/Amsterdam:20250829T213000
DTSTAMP:20260423T220636
CREATED:20250412T081452Z
LAST-MODIFIED:20250626T104441Z
UID:42878-1756490400-1756503000@dutchphotoacademy.nl
SUMMARY:Workshop smartphone fotografie
DESCRIPTION:
URL:https://dutchphotoacademy.nl/workshop/workshop-smartphone-fotografie-2/
END:VEVENT
END:VCALENDAR